BEGIN:VCALENDAR
VERSION:2.0
PRODID:-//Interfaith Round Table of Washtenaw County - ECPv6.15.19//NONSGML v1.0//EN
CALSCALE:GREGORIAN
METHOD:PUBLISH
X-ORIGINAL-URL:https://irtwc.org
X-WR-CALDESC:Events for Interfaith Round Table of Washtenaw County
REFRESH-INTERVAL;VALUE=DURATION:PT1H
X-Robots-Tag:noindex
X-PUBLISHED-TTL:PT1H
BEGIN:VTIMEZONE
TZID:America/Detroit
BEGIN:DAYLIGHT
TZOFFSETFROM:-0500
TZOFFSETTO:-0400
TZNAME:EDT
DTSTART:20200308T070000
END:DAYLIGHT
BEGIN:STANDARD
TZOFFSETFROM:-0400
TZOFFSETTO:-0500
TZNAME:EST
DTSTART:20201101T060000
END:STANDARD
BEGIN:DAYLIGHT
TZOFFSETFROM:-0500
TZOFFSETTO:-0400
TZNAME:EDT
DTSTART:20210314T070000
END:DAYLIGHT
BEGIN:STANDARD
TZOFFSETFROM:-0400
TZOFFSETTO:-0500
TZNAME:EST
DTSTART:20211107T060000
END:STANDARD
BEGIN:DAYLIGHT
TZOFFSETFROM:-0500
TZOFFSETTO:-0400
TZNAME:EDT
DTSTART:20220313T070000
END:DAYLIGHT
BEGIN:STANDARD
TZOFFSETFROM:-0400
TZOFFSETTO:-0500
TZNAME:EST
DTSTART:20221106T060000
END:STANDARD
END:VTIMEZONE
BEGIN:VEVENT
DTSTART;TZID=America/Detroit:20210316T114500
DTEND;TZID=America/Detroit:20210316T130000
DTSTAMP:20260421T001735
CREATED:20210305T150653Z
LAST-MODIFIED:20210305T150851Z
UID:2853-1615895100-1615899600@irtwc.org
SUMMARY:IRT Day Forum: New Normal? Envisioning a Post-Pandemic Future
DESCRIPTION:We are still in the painful throes of the coronavirus pandemic\, but as we begin to imagine what comes next\, some have said that we cannot just ‘go back to normal.’ That era no longer exists. Instead\, we will have to cultivate new ways of living together with knowledge\, wisdom\, and hopes for a better future. What could that look like? How do our spiritual traditions shape our imaginations in these directions? \nOn the third Tuesday of each month\, the Interfaith Round Table invites the wider Washtenaw County community to join us for interfaith dialogue and friendship over the lunch hour. This month\, we would like to explore important questions like these. What could a post-pandemic future look like in Washtenaw County? \nPlease RSVP to roederer@umich.edu if you are interested to join us\, and we will send you the Zoom information. You can connect with us over video or over the phone.
URL:https://irtwc.org/event/irt-day-forum-new-normal-envisioning-a-post-pandemic-future/
END:VEVENT
BEGIN:VEVENT
DTSTART;TZID=America/Detroit:20210321T190000
DTEND;TZID=America/Detroit:20210321T200000
DTSTAMP:20260421T001735
CREATED:20210319T211922Z
LAST-MODIFIED:20210319T211922Z
UID:2881-1616353200-1616356800@irtwc.org
SUMMARY:And So We Grow: Welcoming Spring
DESCRIPTION:We invite you and your friends to join the Interfaith Round Table on Sunday night\, March 21 from 7:00-8:00pm for a time of pre-selected readings\, poetry\, and music read by interfaith readers\, along with a time of shared reﬂection as we begin to welcome spring. Throughout this season\, when we see new growth around us\, how might we acknowledge the growth within us — how we’ve grown during the pandemic\, and how we seek to grow moving forward? This gathering will be facilitated by Director Renee Roederer\, and will take place over Zoom. As we near the end of winter\, we honor hardship in our collective life\, and we gather to provide spiritual support\, encouragement\, and friendship to one another.\n\nTo join us\, please register here.
URL:https://irtwc.org/event/and-so-we-grow-welcoming-spring/
END:VEVENT
BEGIN:VEVENT
DTSTART;TZID=America/Detroit:20210324T150000
DTEND;TZID=America/Detroit:20210324T163000
DTSTAMP:20260421T001735
CREATED:20210319T212015Z
LAST-MODIFIED:20210319T212015Z
UID:2883-1616598000-1616603400@irtwc.org
SUMMARY:Tea Time with IRT Director Renee Roederer
DESCRIPTION:For the last program year\, Rev. Renee Roederer has served as the Director of IRT during a unique virtual season. On Wednesday\, March 24 from 3-4:30pm\, we’ll have some time to connect with her over Zoom with tea\, coffee\, snacks or anything else you’d like to choose! Bryan\, Weinert\, Board Chair of IRT\, will interview her about her interests and her reflections on this season of our shared life. Then we’ll have a Q&A time with her. \nIn addition to her time with IRT\, Renee also serves as a Community Chaplain and the organizer of the Michigan Nones and Dones community in Southeast Michigan. And she’s a part-time staff member at the Epilepsy Foundation of MIchigan. She’s lived in Ann Arbor for 7 years\, after previously living in Southern Indiana; Austin\, Texas; and Pasadena\, California. She enjoys choral singing\, hiking\, and traveling\, and she’s an avid writer. One of her greatest joys in life is the large\, chosen family she has built over time\, with whom she enjoys keeping in touch\, laughing hard\, and reflecting on life. \n\nTo join us\, please register here.
URL:https://irtwc.org/event/tea-time-with-irt-director-renee-roederer/
END:VEVENT
END:VCALENDAR