BEGIN:VCALENDAR
VERSION:2.0
PRODID:-//Interfaith Round Table of Washtenaw County - ECPv6.15.19//NONSGML v1.0//EN
CALSCALE:GREGORIAN
METHOD:PUBLISH
X-WR-CALNAME:Interfaith Round Table of Washtenaw County
X-ORIGINAL-URL:https://irtwc.org
X-WR-CALDESC:Events for Interfaith Round Table of Washtenaw County
REFRESH-INTERVAL;VALUE=DURATION:PT1H
X-Robots-Tag:noindex
X-PUBLISHED-TTL:PT1H
BEGIN:VTIMEZONE
TZID:America/Detroit
BEGIN:DAYLIGHT
TZOFFSETFROM:-0500
TZOFFSETTO:-0400
TZNAME:EDT
DTSTART:20190310T070000
END:DAYLIGHT
BEGIN:STANDARD
TZOFFSETFROM:-0400
TZOFFSETTO:-0500
TZNAME:EST
DTSTART:20191103T060000
END:STANDARD
BEGIN:DAYLIGHT
TZOFFSETFROM:-0500
TZOFFSETTO:-0400
TZNAME:EDT
DTSTART:20200308T070000
END:DAYLIGHT
BEGIN:STANDARD
TZOFFSETFROM:-0400
TZOFFSETTO:-0500
TZNAME:EST
DTSTART:20201101T060000
END:STANDARD
BEGIN:DAYLIGHT
TZOFFSETFROM:-0500
TZOFFSETTO:-0400
TZNAME:EDT
DTSTART:20210314T070000
END:DAYLIGHT
BEGIN:STANDARD
TZOFFSETFROM:-0400
TZOFFSETTO:-0500
TZNAME:EST
DTSTART:20211107T060000
END:STANDARD
END:VTIMEZONE
BEGIN:VEVENT
DTSTART;TZID=America/Detroit:20201214T190000
DTEND;TZID=America/Detroit:20201214T203000
DTSTAMP:20260420T185831
CREATED:20201208T225204Z
LAST-MODIFIED:20201208T234518Z
UID:2692-1607972400-1607977800@irtwc.org
SUMMARY:Faith Leaders Support Group
DESCRIPTION:We invite clergy and faith leaders from local congregations\, communities\, and spiritual assemblies to come together and support one another\, both professionally and personally. We build friendships\, share best practices for ministry and community formation\, and we provide a space in confidence to share personal joys and concerns. We invite you to join us on Monday\, December 14 from 7-8:30pm over Zoom. \n  \n\nPlease RSVP to roederer@umich.edu if you are interested to join us\, and we will send you the Zoom information. You can connect with us over video or over the phone.
URL:https://irtwc.org/event/faith-leaders-support-group-3/
END:VEVENT
BEGIN:VEVENT
DTSTART;TZID=America/Detroit:20201215T114500
DTEND;TZID=America/Detroit:20201215T130000
DTSTAMP:20260420T185831
CREATED:20201208T225107Z
LAST-MODIFIED:20201208T225107Z
UID:2690-1608032700-1608037200@irtwc.org
SUMMARY:Day Forum: The Spiritual Practice of Ritual
DESCRIPTION:On the third Tuesday of each month\, we invite the wider Washtenaw County community to join us for interfaith dialogue and friendship over the lunch hour. This month\, we would like to explore an important question: “How is ritual a spiritual practice?” In our shared conversation\, we will share stories of practicing rituals with our spiritual communities and in our daily lives. How do rituals connect us to larger meaning and to one another? How do they provide direction and purpose?\n \n\nPlease RSVP to roederer@umich.edu if you are interested\, and we will send you the Zoom information.
URL:https://irtwc.org/event/day-forum-the-spiritual-practice-of-ritual/
END:VEVENT
BEGIN:VEVENT
DTSTART;TZID=America/Detroit:20201221T190000
DTEND;TZID=America/Detroit:20201221T200000
DTSTAMP:20260420T185831
CREATED:20201208T224913Z
LAST-MODIFIED:20201208T224913Z
UID:2688-1608577200-1608580800@irtwc.org
SUMMARY:The Darkest Night: Poetry\, Quotes\, Music\, and Reflection
DESCRIPTION:We invite you and your friends to join the Interfaith Round Table on Monday night\, December 21 from 7:00-8:00pm for a time of inspiring words\, calming music\, and shared reﬂection on the night of the Winter Solstice. This gathering will be facilitated by Co-Director Renee Roederer\, and will take place over Zoom. As we near the end of 2020\, we honor hardship in our collective life\, and we gather to provide spiritual support\, encouragement\, and friendship to one another.\n \nPlease RSVP to roederer@umich.edu if you are interested\, and we will send you the Zoom information.
URL:https://irtwc.org/event/the-darkest-night-poetry-quotes-music-and-reflection/
END:VEVENT
BEGIN:VEVENT
DTSTART;TZID=America/Detroit:20201230T150000
DTEND;TZID=America/Detroit:20201230T163000
DTSTAMP:20260420T185831
CREATED:20201208T225304Z
LAST-MODIFIED:20201208T225304Z
UID:2694-1609340400-1609345800@irtwc.org
SUMMARY:Tea Time with Dwight L. Wilson: The New American Dream
DESCRIPTION:As a former Co-Director and current Board Member of IRT\, Dwight L. Wilson has been a strong advocate for interfaith dialogue. We invite you to join us on Wednesday\, December 30 from 3-4:30pm\, where he will share a sermon\, entitled\, “The New American Dream.” We will then have a discussion with him about our own hopes and dreams for building a better world.\n \nAlongside his work in interfaith dialogue and friendship\, he is father to four sons and grandfather to two grandsons and two granddaughters.  He spent 41 years as a school professional including serving as Headmaster and Dean as well as Assistant Chaplain at Oberlin College and Associate Dean at Marshall University. He is also a recorded Friends Minister who is the only person of color to serve as General Secretary of Friends General Conference. Among his many volunteer services is as Ann Arbor Human Rights Director. In that capacity he spent 3.5 years Chairing the Police Oversight Subcommittee. \n \nOn December 30\, we’ll have some time with Dwight over Zoom with tea\, coffee\, snacks or anything else you’d like to choose! We can learn more of his thoughts and share our own as we dream together for a vital and flourishing future.\n \nPlease RSVP to roederer@umich.edu if you are interested to join us\, and we will send you the Zoom information. You can connect with us over video or over the phone.
URL:https://irtwc.org/event/tea-time-with-dwight-l-wilson-the-new-american-dream/
END:VEVENT
END:VCALENDAR