BEGIN:VCALENDAR
VERSION:2.0
PRODID:-//Interfaith Round Table of Washtenaw County - ECPv6.15.19//NONSGML v1.0//EN
CALSCALE:GREGORIAN
METHOD:PUBLISH
X-WR-CALNAME:Interfaith Round Table of Washtenaw County
X-ORIGINAL-URL:https://irtwc.org
X-WR-CALDESC:Events for Interfaith Round Table of Washtenaw County
REFRESH-INTERVAL;VALUE=DURATION:PT1H
X-Robots-Tag:noindex
X-PUBLISHED-TTL:PT1H
BEGIN:VTIMEZONE
TZID:America/Detroit
BEGIN:DAYLIGHT
TZOFFSETFROM:-0500
TZOFFSETTO:-0400
TZNAME:EDT
DTSTART:20190310T070000
END:DAYLIGHT
BEGIN:STANDARD
TZOFFSETFROM:-0400
TZOFFSETTO:-0500
TZNAME:EST
DTSTART:20191103T060000
END:STANDARD
BEGIN:DAYLIGHT
TZOFFSETFROM:-0500
TZOFFSETTO:-0400
TZNAME:EDT
DTSTART:20200308T070000
END:DAYLIGHT
BEGIN:STANDARD
TZOFFSETFROM:-0400
TZOFFSETTO:-0500
TZNAME:EST
DTSTART:20201101T060000
END:STANDARD
BEGIN:DAYLIGHT
TZOFFSETFROM:-0500
TZOFFSETTO:-0400
TZNAME:EDT
DTSTART:20210314T070000
END:DAYLIGHT
BEGIN:STANDARD
TZOFFSETFROM:-0400
TZOFFSETTO:-0500
TZNAME:EST
DTSTART:20211107T060000
END:STANDARD
END:VTIMEZONE
BEGIN:VEVENT
DTSTART;TZID=America/Detroit:20201101T190000
DTEND;TZID=America/Detroit:20201101T200000
DTSTAMP:20260420T202851
CREATED:20201030T173232Z
LAST-MODIFIED:20201030T173232Z
UID:2621-1604257200-1604260800@irtwc.org
SUMMARY:As Election Day Approaches: An Evening of Purpose and Reﬂection
DESCRIPTION:As we make the ﬁnal turn toward the election this Tuesday\, we may feel anxiety\, unease\, or a lack of rest. In the midst of this\, we want to gather together virtually for an evening of reﬂection and connection with one another as neighbors. We will light candles in our homes and hear quotes\, poems\, music\, and reﬂection pieces\, all with an invitation to feel rooted to our deepest values and connected to one another. \nPlease RSVP to roederer@umich.edu if you are interested to join us\, and we will send you the Zoom information. You can connect with us over video or over the phone.
URL:https://irtwc.org/event/as-election-day-approaches-an-evening-of-purpose-and-re%ef%ac%82ection/
END:VEVENT
BEGIN:VEVENT
DTSTART;TZID=America/Detroit:20201105T190000
DTEND;TZID=America/Detroit:20201105T203000
DTSTAMP:20260420T202851
CREATED:20201030T173322Z
LAST-MODIFIED:20201030T173322Z
UID:2623-1604602800-1604608200@irtwc.org
SUMMARY:Liberating Futures: The Spiritual Practice of Imagination
DESCRIPTION:How can imagination inspire us and fuel us toward collective action? We invite you to join us for a meaningful panel discussion with neighbors who are engaging in social action within Washtenaw County. How does imagination inform their work in anti-racism\, abolition\, disability justice\, environmental care\, LGBTQIA+ advocacy\, economic justice\, and more? \nAnd how might the spiritual practice of imagination spur your own calling into action? \nPlease RSVP to roederer@umich.edu if you are interested to join us\, and we will send you the Zoom information. You can connect with us over video or over the phone.
URL:https://irtwc.org/event/liberating-futures-the-spiritual-practice-of-imagination-2/
END:VEVENT
BEGIN:VEVENT
DTSTART;TZID=America/Detroit:20201111T190000
DTEND;TZID=America/Detroit:20201111T203000
DTSTAMP:20260420T202851
CREATED:20201030T173411Z
LAST-MODIFIED:20201030T173411Z
UID:2625-1605121200-1605126600@irtwc.org
SUMMARY:Faith Leaders Support Group
DESCRIPTION:We invite clergy and faith leaders from local congregations\, communities\, and spiritual assemblies to come together and support one another\, both professionally and personally. We build friendships\, share best practices for ministry and community formation\, and we provide a space in conﬁdence to share personal joys and concerns. We invite you to join us on Wednesday\, November 18 from 7-8:30pm over Zoom. \nPlease RSVP to roederer@umich.edu if you are interested to join us\, and we will send you the Zoom information. You can connect with us over video or over the phone.
URL:https://irtwc.org/event/faith-leaders-support-group-2/
END:VEVENT
BEGIN:VEVENT
DTSTART;TZID=America/Detroit:20201117T114500
DTEND;TZID=America/Detroit:20201117T130000
DTSTAMP:20260420T202851
CREATED:20201030T173532Z
LAST-MODIFIED:20201030T173532Z
UID:2627-1605613500-1605618000@irtwc.org
SUMMARY:Day Forum: The Spiritual Practice of Gratitude
DESCRIPTION:On the third Tuesday of each month\, we invite the wider Washtenaw County community to join us for interfaith dialogue and friendship over the lunch hour. This month\, we would like to explore an important question: “How is gratitude a spiritual practice?” In our shared conversation\, we will voice what helps us feel thankful these days. What joys\, large and small\, sustain us in a time of collective stress? How do they provide meaning and purpose? \nPlease RSVP to roederer@umich.edu if you are interested to join us\, and we will send you the Zoom information. You can connect with us over video or over the phone.
URL:https://irtwc.org/event/day-forum-the-spiritual-practice-of-gratitude/
END:VEVENT
END:VCALENDAR