BEGIN:VCALENDAR
VERSION:2.0
PRODID:-//Interfaith Round Table of Washtenaw County - ECPv6.15.19//NONSGML v1.0//EN
CALSCALE:GREGORIAN
METHOD:PUBLISH
X-ORIGINAL-URL:https://irtwc.org
X-WR-CALDESC:Events for Interfaith Round Table of Washtenaw County
REFRESH-INTERVAL;VALUE=DURATION:PT1H
X-Robots-Tag:noindex
X-PUBLISHED-TTL:PT1H
BEGIN:VTIMEZONE
TZID:America/Detroit
BEGIN:DAYLIGHT
TZOFFSETFROM:-0500
TZOFFSETTO:-0400
TZNAME:EDT
DTSTART:20200308T070000
END:DAYLIGHT
BEGIN:STANDARD
TZOFFSETFROM:-0400
TZOFFSETTO:-0500
TZNAME:EST
DTSTART:20201101T060000
END:STANDARD
BEGIN:DAYLIGHT
TZOFFSETFROM:-0500
TZOFFSETTO:-0400
TZNAME:EDT
DTSTART:20210314T070000
END:DAYLIGHT
BEGIN:STANDARD
TZOFFSETFROM:-0400
TZOFFSETTO:-0500
TZNAME:EST
DTSTART:20211107T060000
END:STANDARD
BEGIN:DAYLIGHT
TZOFFSETFROM:-0500
TZOFFSETTO:-0400
TZNAME:EDT
DTSTART:20220313T070000
END:DAYLIGHT
BEGIN:STANDARD
TZOFFSETFROM:-0400
TZOFFSETTO:-0500
TZNAME:EST
DTSTART:20221106T060000
END:STANDARD
END:VTIMEZONE
BEGIN:VEVENT
DTSTART;TZID=America/Detroit:20210420T114500
DTEND;TZID=America/Detroit:20210420T130000
DTSTAMP:20260420T073350
CREATED:20210418T153455Z
LAST-MODIFIED:20210418T153455Z
UID:2932-1618919100-1618923600@irtwc.org
SUMMARY:IRT Day Forum: From "Holy Rage to Holy Hope"
DESCRIPTION:On the third Tuesday of each month\, the Interfaith Round Table invites the wider Washtenaw County community to join us for interfaith dialogue and friendship over the lunch hour. This month\, we would like to explore this question: Have you had moments when you personally witnessed or experienced injustice\, and how did that anger move you to action?\nOur language for this discussion — “from holy rage to holy hope” — comes from Rev. Sharon Risher. Rev. Sharon Risher is the daughter of Ethel Lee Lance\, one of the nine people who died in the Charleston shooting at the Mother Emanuel AME Church. She spoke very powerfully at a recent event with the IRT\nWe’re encouraged to watch the video of her talk before our gathering\, though you don’t need to have watched to come and participate. \nhttps://www.youtube.com/watch?v=Y3avRZBOmXQ&t=3255s\nTo RSVP\, please register here. After you do so\, Zoom information will be sent to your email. You can join with us via video or phone.
URL:https://irtwc.org/event/irt-day-forum-from-holy-rage-to-holy-hope/
END:VEVENT
END:VCALENDAR