BEGIN:VCALENDAR
VERSION:2.0
PRODID:-//Interfaith Round Table of Washtenaw County - ECPv6.15.19//NONSGML v1.0//EN
CALSCALE:GREGORIAN
METHOD:PUBLISH
X-ORIGINAL-URL:https://irtwc.org
X-WR-CALDESC:Events for Interfaith Round Table of Washtenaw County
REFRESH-INTERVAL;VALUE=DURATION:PT1H
X-Robots-Tag:noindex
X-PUBLISHED-TTL:PT1H
BEGIN:VTIMEZONE
TZID:America/Detroit
BEGIN:DAYLIGHT
TZOFFSETFROM:-0500
TZOFFSETTO:-0400
TZNAME:EDT
DTSTART:20200308T070000
END:DAYLIGHT
BEGIN:STANDARD
TZOFFSETFROM:-0400
TZOFFSETTO:-0500
TZNAME:EST
DTSTART:20201101T060000
END:STANDARD
BEGIN:DAYLIGHT
TZOFFSETFROM:-0500
TZOFFSETTO:-0400
TZNAME:EDT
DTSTART:20210314T070000
END:DAYLIGHT
BEGIN:STANDARD
TZOFFSETFROM:-0400
TZOFFSETTO:-0500
TZNAME:EST
DTSTART:20211107T060000
END:STANDARD
BEGIN:DAYLIGHT
TZOFFSETFROM:-0500
TZOFFSETTO:-0400
TZNAME:EDT
DTSTART:20220313T070000
END:DAYLIGHT
BEGIN:STANDARD
TZOFFSETFROM:-0400
TZOFFSETTO:-0500
TZNAME:EST
DTSTART:20221106T060000
END:STANDARD
END:VTIMEZONE
BEGIN:VEVENT
DTSTART;TZID=America/Detroit:20210316T114500
DTEND;TZID=America/Detroit:20210316T130000
DTSTAMP:20260420T092050
CREATED:20210305T150653Z
LAST-MODIFIED:20210305T150851Z
UID:2853-1615895100-1615899600@irtwc.org
SUMMARY:IRT Day Forum: New Normal? Envisioning a Post-Pandemic Future
DESCRIPTION:We are still in the painful throes of the coronavirus pandemic\, but as we begin to imagine what comes next\, some have said that we cannot just ‘go back to normal.’ That era no longer exists. Instead\, we will have to cultivate new ways of living together with knowledge\, wisdom\, and hopes for a better future. What could that look like? How do our spiritual traditions shape our imaginations in these directions? \nOn the third Tuesday of each month\, the Interfaith Round Table invites the wider Washtenaw County community to join us for interfaith dialogue and friendship over the lunch hour. This month\, we would like to explore important questions like these. What could a post-pandemic future look like in Washtenaw County? \nPlease RSVP to roederer@umich.edu if you are interested to join us\, and we will send you the Zoom information. You can connect with us over video or over the phone.
URL:https://irtwc.org/event/irt-day-forum-new-normal-envisioning-a-post-pandemic-future/
END:VEVENT
END:VCALENDAR