BEGIN:VCALENDAR
VERSION:2.0
PRODID:-//Interfaith Round Table of Washtenaw County - ECPv6.15.19//NONSGML v1.0//EN
CALSCALE:GREGORIAN
METHOD:PUBLISH
X-WR-CALNAME:Interfaith Round Table of Washtenaw County
X-ORIGINAL-URL:https://irtwc.org
X-WR-CALDESC:Events for Interfaith Round Table of Washtenaw County
REFRESH-INTERVAL;VALUE=DURATION:PT1H
X-Robots-Tag:noindex
X-PUBLISHED-TTL:PT1H
BEGIN:VTIMEZONE
TZID:America/Detroit
BEGIN:DAYLIGHT
TZOFFSETFROM:-0500
TZOFFSETTO:-0400
TZNAME:EDT
DTSTART:20200308T070000
END:DAYLIGHT
BEGIN:STANDARD
TZOFFSETFROM:-0400
TZOFFSETTO:-0500
TZNAME:EST
DTSTART:20201101T060000
END:STANDARD
BEGIN:DAYLIGHT
TZOFFSETFROM:-0500
TZOFFSETTO:-0400
TZNAME:EDT
DTSTART:20210314T070000
END:DAYLIGHT
BEGIN:STANDARD
TZOFFSETFROM:-0400
TZOFFSETTO:-0500
TZNAME:EST
DTSTART:20211107T060000
END:STANDARD
BEGIN:DAYLIGHT
TZOFFSETFROM:-0500
TZOFFSETTO:-0400
TZNAME:EDT
DTSTART:20220313T070000
END:DAYLIGHT
BEGIN:STANDARD
TZOFFSETFROM:-0400
TZOFFSETTO:-0500
TZNAME:EST
DTSTART:20221106T060000
END:STANDARD
END:VTIMEZONE
BEGIN:VEVENT
DTSTART;TZID=America/Detroit:20210224T190000
DTEND;TZID=America/Detroit:20210224T203000
DTSTAMP:20260420T234915
CREATED:20210204T214458Z
LAST-MODIFIED:20210204T214458Z
UID:2797-1614193200-1614198600@irtwc.org
SUMMARY:For Such a Time As This: An Evening with Rev. Sharon Risher
DESCRIPTION:The Interfaith Round Table invites you to a powerful discussion with the Rev. Sharon Risher. She is the daughter of Mrs. Ethel Lee Lance in Charleston\, South Carolina who was killed at Mother Emanuel African Methodist Episcopal Church\, along with 8 other people\, including Rev. Risher’s two cousins and a childhood friend. Through story and conviction\, we will hear about the power of legacy\, faith\, and hope and how these have fueled Rev. Risher as an advocate for anti-racism and an end to gun violence. \nRev. Risher is the author of For Such a Time as This: Hope and Forgiveness After The Charleston Massacre. It is a powerful expression of heart and boldness in the face of trauma and personal loss. We will ask Rev. Risher about her story and the causes she holds dear. And we’ll invite her to call us to action as well: How might we be called for such a time as this? \n To attend\, please register here. \n 
URL:https://irtwc.org/event/for-such-a-time-as-this-an-evening-with-rev-sharon-risher/
END:VEVENT
END:VCALENDAR