BEGIN:VCALENDAR
VERSION:2.0
PRODID:-//Interfaith Round Table of Washtenaw County - ECPv6.15.19//NONSGML v1.0//EN
CALSCALE:GREGORIAN
METHOD:PUBLISH
X-ORIGINAL-URL:https://irtwc.org
X-WR-CALDESC:Events for Interfaith Round Table of Washtenaw County
REFRESH-INTERVAL;VALUE=DURATION:PT1H
X-Robots-Tag:noindex
X-PUBLISHED-TTL:PT1H
BEGIN:VTIMEZONE
TZID:America/Detroit
BEGIN:DAYLIGHT
TZOFFSETFROM:-0500
TZOFFSETTO:-0400
TZNAME:EDT
DTSTART:20190310T070000
END:DAYLIGHT
BEGIN:STANDARD
TZOFFSETFROM:-0400
TZOFFSETTO:-0500
TZNAME:EST
DTSTART:20191103T060000
END:STANDARD
BEGIN:DAYLIGHT
TZOFFSETFROM:-0500
TZOFFSETTO:-0400
TZNAME:EDT
DTSTART:20200308T070000
END:DAYLIGHT
BEGIN:STANDARD
TZOFFSETFROM:-0400
TZOFFSETTO:-0500
TZNAME:EST
DTSTART:20201101T060000
END:STANDARD
BEGIN:DAYLIGHT
TZOFFSETFROM:-0500
TZOFFSETTO:-0400
TZNAME:EDT
DTSTART:20210314T070000
END:DAYLIGHT
BEGIN:STANDARD
TZOFFSETFROM:-0400
TZOFFSETTO:-0500
TZNAME:EST
DTSTART:20211107T060000
END:STANDARD
END:VTIMEZONE
BEGIN:VEVENT
DTSTART;TZID=America/Detroit:20201020T114500
DTEND;TZID=America/Detroit:20201020T130000
DTSTAMP:20260421T082500
CREATED:20200925T214528Z
LAST-MODIFIED:20200925T214528Z
UID:2548-1603194300-1603198800@irtwc.org
SUMMARY:Day Forum: The Spiritual Practice of Imagination
DESCRIPTION:On the third Tuesday of each month\, we invite the wider Washtenaw County community to join us for interfaith dialogue and friendship over the lunch hour. This month\, we would like to explore an important question: “How is imagination a spiritual practice?” In our shared conversation\, we will be invited to share stories about moments when imagination captivated us and fueled us to action— interpersonally and in community. How did this inspire us? How did this connect us? How did this change us? \nPlease RSVP to roederer@umich.edu if you are interested to join us\, and we will send you the Zoom information. You can connect with us over video or over the phone.
URL:https://irtwc.org/event/day-forum-the-spiritual-practice-of-imagination/
END:VEVENT
END:VCALENDAR